BEGIN:VCALENDAR
VERSION:2.0
PRODID:-//IAO / Instituto Aragonés de Osteopatía - ECPv6.15.20//NONSGML v1.0//EN
CALSCALE:GREGORIAN
METHOD:PUBLISH
X-ORIGINAL-URL:https://institutosteopatia.com
X-WR-CALDESC:Eventos para IAO / Instituto Aragonés de Osteopatía
REFRESH-INTERVAL;VALUE=DURATION:PT1H
X-Robots-Tag:noindex
X-PUBLISHED-TTL:PT1H
BEGIN:VTIMEZONE
TZID:Europe/Madrid
BEGIN:DAYLIGHT
TZOFFSETFROM:+0100
TZOFFSETTO:+0200
TZNAME:CEST
DTSTART:20250330T010000
END:DAYLIGHT
BEGIN:STANDARD
TZOFFSETFROM:+0200
TZOFFSETTO:+0100
TZNAME:CET
DTSTART:20251026T010000
END:STANDARD
BEGIN:DAYLIGHT
TZOFFSETFROM:+0100
TZOFFSETTO:+0200
TZNAME:CEST
DTSTART:20260329T010000
END:DAYLIGHT
BEGIN:STANDARD
TZOFFSETFROM:+0200
TZOFFSETTO:+0100
TZNAME:CET
DTSTART:20261025T010000
END:STANDARD
BEGIN:DAYLIGHT
TZOFFSETFROM:+0100
TZOFFSETTO:+0200
TZNAME:CEST
DTSTART:20270328T010000
END:DAYLIGHT
BEGIN:STANDARD
TZOFFSETFROM:+0200
TZOFFSETTO:+0100
TZNAME:CET
DTSTART:20271031T010000
END:STANDARD
END:VTIMEZONE
BEGIN:VTIMEZONE
TZID:UTC
BEGIN:STANDARD
TZOFFSETFROM:+0000
TZOFFSETTO:+0000
TZNAME:UTC
DTSTART:20250101T000000
END:STANDARD
END:VTIMEZONE
BEGIN:VEVENT
DTSTART;TZID=Europe/Madrid:20260214T000000
DTEND;TZID=Europe/Madrid:20260214T235959
DTSTAMP:20260424T185353
CREATED:20260118T113534Z
LAST-MODIFIED:20260118T153320Z
UID:226602-1771027200-1771113599@institutosteopatia.com
SUMMARY:Curso: Método ROF-Global (Reequilibrio Osteopático Funcional Global)
DESCRIPTION:El método ROF-Global \nBasado en el estudio preciso de la Línea Central de Gravedad\, este enfoque combina ciencia\, técnica y sensibilidad clínica para restablecer el equilibrio natural del cuerpo de forma rápida\, efectiva y comprensible. \nSupone un salto adelante en la práctica osteopática. \nEn el mundo de la osteopatía\, ROF-Global representa mucho más que una técnica: es un salto evolutivo en la forma de entender y tratar el cuerpo. Basado en el estudio de la Línea Central de Gravedad\, este método ofrece un enfoque rápido\, preciso y profundamente eficaz para liberar retracciones\, rigideces y disfunciones\, restaurando la movilidad\, elasticidad y armonía natural del organismo. Los resultados son visibles desde la primera aplicación: El cuerpo recupera su equilibrio\, mejora su función y el paciente experimenta bienestar físico\, emocional y estructural. \nLos tres niveles en el mismo curso \n\n\nTres seminarios de 170€ cada uno. Posibilidad de realzar el primero por separado: 170€
URL:https://institutosteopatia.com/event/curso-metodo-rof-global-reequilibrio-osteopatico-funcional-global/
LOCATION:Instituto Aragonés de Ostatopatía\, C/ Maestro del Marquína 14 - 16
ATTACH;FMTTYPE=image/png:https://institutosteopatia.com/wp-content/uploads/2021/03/ROF-GLOBAL-2.png
ORGANIZER;CN="Instituto Aragon%C3%A9s de Osteopat%C3%ADa":MAILTO:osteopatia@institutosteopatia.com
END:VEVENT
BEGIN:VEVENT
DTSTART;TZID=UTC:20260214T093000
DTEND;TZID=UTC:20260214T200000
DTSTAMP:20260424T185353
CREATED:20260118T124348Z
LAST-MODIFIED:20260118T153058Z
UID:226633-1771061400-1771099200@institutosteopatia.com
SUMMARY:Curso: Acupuntura Zonal
DESCRIPTION:Este curso profesional de Acupuntura por Zonas ofrece una formación integral y flexible para abordar el dolor y las disfunciones del aparato locomotor desde la perspectiva de la Medicina Tradicional China (MTC). A través de módulos progresivos\, el alumno aprende a aplicar principalmente la técnica acupuntural\, integrando también moxa\, aguja de fuego y digitopresión. \n\n\n\nLa formación se basa en una visión global y holística del cuerpo\, entendiendo el dolor como resultado de desequilibrios energéticos\, microtraumatismos\, hábitos de vida\, factores emocionales y climatológicos. Se profundiza en los meridianos convencionales\, tendino-musculares y puntos Ashi\, proporcionando las herramientas necesarias para identificar el origen del problema y restaurar el equilibrio funcional. \n\n\n\nEstá orientado a profesionales que desean ampliar sus competencias en terapia manual\, trabajar con mayor seguridad y eficacia en el ámbito clínico\, o desarrollar su propio proyecto profesional dentro de una formación sólida y certificada.
URL:https://institutosteopatia.com/event/curso-acupuntura-zonal/
LOCATION:Instituto Aragonés de Osteopatía\, C/ del Maestro Marquína 14 -16\, Zaragoza\, Zaragoza\, Spain
ATTACH;FMTTYPE=image/png:https://institutosteopatia.com/wp-content/uploads/2021/06/8-1.png
ORGANIZER;CN="Instituto Aragon%C3%A9s de Osteopat%C3%ADa":MAILTO:osteopatia@institutosteopatia.com
END:VEVENT
BEGIN:VEVENT
DTSTART;TZID=UTC:20260418T093000
DTEND;TZID=UTC:20260418T200000
DTSTAMP:20260424T185353
CREATED:20260118T211826Z
LAST-MODIFIED:20260118T211827Z
UID:226814-1776504600-1776542400@institutosteopatia.com
SUMMARY:Curso de Osteopatía Craneal
DESCRIPTION:La formación en Osteopatía Craneal del Instituto Aragonés de Osteopatía está dirigida a profesionales que desean perfeccionar su sensibilidad\, precisión y capacidad de escucha\, avanzando hacia una práctica osteopática más profunda y completa. El curso te enseña a percibir el Movimiento Rítmico Craneal\, liberar restricciones y restablecer el equilibrio global del organismo mediante técnicas finas y eficaces\, basadas en los principios clásicos de la osteopatía y en la experiencia clínica real. \n\n\n\nCon un enfoque práctico y gradual\, profesores en activo y materiales de enseñanza especiales\, aprenderás a hacer palpaciones precisas y a tener un buen razonamiento clínico\, que podrás usar en muchas situaciones terapéuticas. Una formación exigente\, pensada para quienes quieren marcar la diferencia y dominar el arte del tacto y la percepción en osteopatía.
URL:https://institutosteopatia.com/event/curso-de-osteopatia-craneal/
LOCATION:Instituto Aragonés de Osteopatía\, C/ Del Maestro Marquína 14-16\, Zaragoza\, Zaragoza\, 50006\, Spain
ATTACH;FMTTYPE=image/png:https://institutosteopatia.com/wp-content/uploads/2021/03/OSTEO-CRANEAL.png
ORGANIZER;CN="Instituto Aragon%C3%A9s de Osteopat%C3%ADa":MAILTO:osteopatía@institutosteopatia.com
END:VEVENT
BEGIN:VEVENT
DTSTART;TZID=UTC:20260507T090000
DTEND;TZID=UTC:20260509T120000
DTSTAMP:20260424T185353
CREATED:20260118T133826Z
LAST-MODIFIED:20260118T212028Z
UID:226648-1778144400-1778328000@institutosteopatia.com
SUMMARY:Máster en Osteopatía Estructural (Daryl Herbert)
DESCRIPTION:El Curso de Manipulación de Rango Medio de Palanca Mínima (MLMR) es una formación intensiva y eminentemente práctica\, orientada al aprendizaje de técnicas avanzadas de manipulación articular en extremidades superiores e inferiores\, así como en uniones vertebrales clave. El curso pone el foco en la seguridad\, el control y la eficacia clínica\, diferenciando claramente la MLMR de las técnicas de alta velocidad y baja amplitud (HVLA). \n\n\n\nCon un 75 % de contenido práctico\, los participantes aprenden técnicas específicas guiadas que se basan en la anatomía funcional\, la biomecánica y la evidencia actual. Estas técnicas se pueden aplicar a las articulaciones periféricas y a áreas complejas de la columna\, como C0/C1\, C1/C2\, C7/T1\, T12/L1 y L5/S1. La formación se apoya en material didáctico de alto nivel\, recursos audiovisuales y demostraciones prácticas. \n\n\n\nEstá dirigido a osteópatas\, fisioterapeutas y alumnos avanzados\, con el objetivo de mejorar la precisión diagnóstica y la destreza manual\, potenciando una práctica clínica más segura\, eficaz y orientada a mejores resultados terapéuticos.
URL:https://institutosteopatia.com/event/master-en-osteopatia-estructural-daryl-herbert/
LOCATION:Instituto Aragonés de Osteopatía\, C/ Del Maestro Marquína 14-16\, Zaragoza\, Zaragoza\, 50006\, Spain
ATTACH;FMTTYPE=image/png:https://institutosteopatia.com/wp-content/uploads/2024/09/desde-1995-copia.png
ORGANIZER;CN="Instituto Aragon%C3%A9s de Osteopat%C3%ADa":MAILTO:osteopatia@institutosteopatia.com
END:VEVENT
END:VCALENDAR