BEGIN:VCALENDAR
VERSION:2.0
PRODID:-//IAO / Instituto Aragonés de Osteopatía - ECPv6.15.20//NONSGML v1.0//EN
CALSCALE:GREGORIAN
METHOD:PUBLISH
X-WR-CALNAME:IAO / Instituto Aragonés de Osteopatía
X-ORIGINAL-URL:https://institutosteopatia.com
X-WR-CALDESC:Eventos para IAO / Instituto Aragonés de Osteopatía
REFRESH-INTERVAL;VALUE=DURATION:PT1H
X-Robots-Tag:noindex
X-PUBLISHED-TTL:PT1H
BEGIN:VTIMEZONE
TZID:UTC
BEGIN:STANDARD
TZOFFSETFROM:+0000
TZOFFSETTO:+0000
TZNAME:UTC
DTSTART:20250101T000000
END:STANDARD
END:VTIMEZONE
BEGIN:VEVENT
DTSTART;TZID=UTC:20260418T093000
DTEND;TZID=UTC:20260418T200000
DTSTAMP:20260424T155310
CREATED:20260118T211826Z
LAST-MODIFIED:20260118T211827Z
UID:226814-1776504600-1776542400@institutosteopatia.com
SUMMARY:Curso de Osteopatía Craneal
DESCRIPTION:La formación en Osteopatía Craneal del Instituto Aragonés de Osteopatía está dirigida a profesionales que desean perfeccionar su sensibilidad\, precisión y capacidad de escucha\, avanzando hacia una práctica osteopática más profunda y completa. El curso te enseña a percibir el Movimiento Rítmico Craneal\, liberar restricciones y restablecer el equilibrio global del organismo mediante técnicas finas y eficaces\, basadas en los principios clásicos de la osteopatía y en la experiencia clínica real. \n\n\n\nCon un enfoque práctico y gradual\, profesores en activo y materiales de enseñanza especiales\, aprenderás a hacer palpaciones precisas y a tener un buen razonamiento clínico\, que podrás usar en muchas situaciones terapéuticas. Una formación exigente\, pensada para quienes quieren marcar la diferencia y dominar el arte del tacto y la percepción en osteopatía.
URL:https://institutosteopatia.com/event/curso-de-osteopatia-craneal/
LOCATION:Instituto Aragonés de Osteopatía\, C/ Del Maestro Marquína 14-16\, Zaragoza\, Zaragoza\, 50006\, Spain
ATTACH;FMTTYPE=image/png:https://institutosteopatia.com/wp-content/uploads/2021/03/OSTEO-CRANEAL.png
ORGANIZER;CN="Instituto Aragon%C3%A9s de Osteopat%C3%ADa":MAILTO:osteopatía@institutosteopatia.com
END:VEVENT
END:VCALENDAR